BEGIN:VCALENDAR
VERSION:2.0
PRODID:-//GV Corvina - ECPv5.13.0//NONSGML v1.0//EN
CALSCALE:GREGORIAN
METHOD:PUBLISH
X-WR-CALNAME:GV Corvina
X-ORIGINAL-URL:https://corvina.ch
X-WR-CALDESC:Veranstaltungen für GV Corvina
BEGIN:VTIMEZONE
TZID:UTC
BEGIN:STANDARD
TZOFFSETFROM:+0000
TZOFFSETTO:+0000
TZNAME:UTC
DTSTART:20160101T000000
END:STANDARD
END:VTIMEZONE
BEGIN:VEVENT
DTSTART;VALUE=DATE:20160902
DTEND;VALUE=DATE:20160906
DTSTAMP:20260426T003405
CREATED:20160428T134938Z
LAST-MODIFIED:20160824T131817Z
UID:702-1472778000-1473037199@corvina.ch
SUMMARY:Zentralfest Schwyz
DESCRIPTION:Wie jedes Jahr freuen wir uns auf ein neues Zentralfest und dieses Jahr ist es sogar nur ein Tal entfernt und findet in Schwyz statt. Alle wichtigen allgemeinen Infos\, sowie Übernachtungsmöglichkeiten\, findet man auf der Seite des Zentralfestes Schwyz https://www.zentralfest-schwyz.ch/de . \nUnser Stammlokal ist das Pöstli und somit ist die Corvina mitten im Geschehen. Wir teilen uns das Lokal mit der GV Suita und der AV Orion. \n  \n 
URL:https://corvina.ch/event/zentralfest-schwyz/
LOCATION:Schwyz
CATEGORIES:Schw.StV
ATTACH;FMTTYPE=image/jpeg:https://corvina.ch/wp-content/uploads/2016/04/IMG-20150908-WA0004.jpg
END:VEVENT
END:VCALENDAR