BEGIN:VCALENDAR
VERSION:2.0
PRODID:-//GV Corvina - ECPv5.13.0//NONSGML v1.0//EN
CALSCALE:GREGORIAN
METHOD:PUBLISH
X-WR-CALNAME:GV Corvina
X-ORIGINAL-URL:https://corvina.ch
X-WR-CALDESC:Veranstaltungen für GV Corvina
BEGIN:VTIMEZONE
TZID:UTC
BEGIN:STANDARD
TZOFFSETFROM:+0000
TZOFFSETTO:+0000
TZNAME:UTC
DTSTART:20190101T000000
END:STANDARD
END:VTIMEZONE
BEGIN:VEVENT
DTSTART;VALUE=DATE:20190830
DTEND;VALUE=DATE:20190904
DTSTAMP:20260426T061240
CREATED:20180212T180251Z
LAST-MODIFIED:20190204T171344Z
UID:2132-1567126800-1567472399@corvina.ch
SUMMARY:Zentralfest St. Maurice
DESCRIPTION:Endlich ist es wieder soweit\, Zentralfest wir kommen. \nWeitere Infos http://stmaurice2019.ch/de
URL:https://corvina.ch/event/zentralfest-engelberg/
CATEGORIES:c.p.s.,h'off
ATTACH;FMTTYPE=image/png:https://corvina.ch/wp-content/uploads/2018/02/logo_web.png
END:VEVENT
END:VCALENDAR