BEGIN:VCALENDAR
VERSION:2.0
PRODID:-//GV Corvina - ECPv5.13.0//NONSGML v1.0//EN
CALSCALE:GREGORIAN
METHOD:PUBLISH
X-WR-CALNAME:GV Corvina
X-ORIGINAL-URL:https://corvina.ch
X-WR-CALDESC:Veranstaltungen für GV Corvina
BEGIN:VTIMEZONE
TZID:UTC
BEGIN:STANDARD
TZOFFSETFROM:+0000
TZOFFSETTO:+0000
TZNAME:UTC
DTSTART:20160101T000000
END:STANDARD
END:VTIMEZONE
BEGIN:VEVENT
DTSTART;VALUE=DATE:20161119
DTEND;VALUE=DATE:20161122
DTSTAMP:20260426T062422
CREATED:20160811T141201Z
LAST-MODIFIED:20160811T141201Z
UID:1598-1479517200-1479689999@corvina.ch
SUMMARY:Wildfrass der AKV Neu-Romania
DESCRIPTION:Jedes Jahr dürfen 6 Corviner bei unserer Patenverbindung einkehren und es wird für ihr leibliches Wohl mit Speis und Trank gesorgt\, danach ist man vielleicht etwas müde\, aber gelohnt hat es sich jedes Jahr. \nFür die Übernachtung wird gesorgt.
URL:https://corvina.ch/event/wildfrass-der-akv-neu-romania/
LOCATION:Freiburg i. Ue.
CATEGORIES:c.p.s.,off
ATTACH;FMTTYPE=image/jpeg:https://corvina.ch/wp-content/uploads/2016/08/4965657af186b9092c7a96976ffe881c_XL.jpg
END:VEVENT
END:VCALENDAR