BEGIN:VCALENDAR
VERSION:2.0
PRODID:-//GV Corvina - ECPv5.13.0//NONSGML v1.0//EN
CALSCALE:GREGORIAN
METHOD:PUBLISH
X-WR-CALNAME:GV Corvina
X-ORIGINAL-URL:https://corvina.ch
X-WR-CALDESC:Veranstaltungen für GV Corvina
BEGIN:VTIMEZONE
TZID:UTC
BEGIN:STANDARD
TZOFFSETFROM:+0000
TZOFFSETTO:+0000
TZNAME:UTC
DTSTART:20190101T000000
END:STANDARD
END:VTIMEZONE
BEGIN:VEVENT
DTSTART;TZID=UTC:20190823T170000
DTEND;TZID=UTC:20190823T170000
DTSTAMP:20260426T055944
CREATED:20170209T153234Z
LAST-MODIFIED:20190814T124921Z
UID:1992-1566579600-1566579600@corvina.ch
SUMMARY:Survivalanlass
DESCRIPTION:Was braucht es um ein Zentralfest zu erleben und nicht nur zu überleben? \nTipps und Tricks und Anekdoten.
URL:https://corvina.ch/event/survivalstamm/
LOCATION:Restaurant Rosengarten\, Spitalstrasse 16\, Einsiedeln\, schwyz\, 8840\, Schweiz
ATTACH;FMTTYPE=image/jpeg:https://corvina.ch/wp-content/uploads/2017/02/survival-425.jpg
END:VEVENT
END:VCALENDAR