BEGIN:VCALENDAR
VERSION:2.0
PRODID:-//GV Corvina - ECPv5.13.0//NONSGML v1.0//EN
CALSCALE:GREGORIAN
METHOD:PUBLISH
X-WR-CALNAME:GV Corvina
X-ORIGINAL-URL:https://corvina.ch
X-WR-CALDESC:Veranstaltungen für GV Corvina
BEGIN:VTIMEZONE
TZID:UTC
BEGIN:STANDARD
TZOFFSETFROM:+0000
TZOFFSETTO:+0000
TZNAME:UTC
DTSTART:20160101T000000
END:STANDARD
END:VTIMEZONE
BEGIN:VEVENT
DTSTART;TZID=UTC:20160923T163000
DTEND;TZID=UTC:20160923T163000
DTSTAMP:20260425T185706
CREATED:20160512T090413Z
LAST-MODIFIED:20160512T091303Z
UID:1203-1474648200-1474648200@corvina.ch
SUMMARY:Stamm
DESCRIPTION:
URL:https://corvina.ch/event/stamm-3/
LOCATION:Restaurant Rosengarten\, Spitalstrasse 16\, Einsiedeln\, schwyz\, 8840\, Schweiz
CATEGORIES:c.p.s.,öffentlich,Stamm
ATTACH;FMTTYPE=image/jpeg:https://corvina.ch/wp-content/uploads/2016/04/IMG-20160415-WA0004.jpg
END:VEVENT
END:VCALENDAR