BEGIN:VCALENDAR
VERSION:2.0
PRODID:-//GV Corvina - ECPv5.13.0//NONSGML v1.0//EN
CALSCALE:GREGORIAN
METHOD:PUBLISH
X-WR-CALNAME:GV Corvina
X-ORIGINAL-URL:https://corvina.ch
X-WR-CALDESC:Veranstaltungen für GV Corvina
BEGIN:VTIMEZONE
TZID:UTC
BEGIN:STANDARD
TZOFFSETFROM:+0000
TZOFFSETTO:+0000
TZNAME:UTC
DTSTART:20160101T000000
END:STANDARD
END:VTIMEZONE
BEGIN:VEVENT
DTSTART;TZID=UTC:20160916T163000
DTEND;TZID=UTC:20160916T163000
DTSTAMP:20260425T204520
CREATED:20160512T090317Z
LAST-MODIFIED:20160512T091318Z
UID:1202-1474043400-1474043400@corvina.ch
SUMMARY:Stamm
DESCRIPTION:
URL:https://corvina.ch/event/stamm-2/
LOCATION:Restaurant Rosengarten\, Spitalstrasse 16\, Einsiedeln\, schwyz\, 8840\, Schweiz
CATEGORIES:c.t.,öffentlich,Stamm
ATTACH;FMTTYPE=image/jpeg:https://corvina.ch/wp-content/uploads/2016/05/20130222_220907-e1463041617389.jpg
END:VEVENT
END:VCALENDAR