BEGIN:VCALENDAR
VERSION:2.0
PRODID:-//GV Corvina - ECPv5.13.0//NONSGML v1.0//EN
CALSCALE:GREGORIAN
METHOD:PUBLISH
X-WR-CALNAME:GV Corvina
X-ORIGINAL-URL:https://corvina.ch
X-WR-CALDESC:Veranstaltungen für GV Corvina
BEGIN:VTIMEZONE
TZID:UTC
BEGIN:STANDARD
TZOFFSETFROM:+0000
TZOFFSETTO:+0000
TZNAME:UTC
DTSTART:20160101T000000
END:STANDARD
END:VTIMEZONE
BEGIN:VEVENT
DTSTART;TZID=UTC:20160924T200000
DTEND;TZID=UTC:20160924T200000
DTSTAMP:20260425T164743
CREATED:20160428T135128Z
LAST-MODIFIED:20160912T171000Z
UID:703-1474747200-1474747200@corvina.ch
SUMMARY:SchluErKo
DESCRIPTION:Wir verabschieden uns vom alten Semester und begrüssen das Neue.\nDas  Komitee resignatus (Senior Helena Schmitt v/o Plapper\, Consenior Daniel Knechtle v/o Frisch\, Aktuar Nadja Kistler v/o Nikon und Fuxmajor Ramona Studer v/o Sugar) wird verabschiedet und erhält noch sein Zeugnis für die geleistete Arbeit und wahrscheinlich findet auch die ein oder andere lustige Anekdote seinen Weg an die Öffentlichkeit. \nZum Start des neuen Semesters sollten Fuxifikation und Burschifikation natürlich nicht fehlen. Wir hoffen\, dass wir diese Erwartungen erfüllen können. \nDer Anlass beginnt um 20.00 s.t\, da es ein hochoffizieller Anlass ist c.p.s.
URL:https://corvina.ch/event/schluerko/
LOCATION:Restaurant Sihlsee\, Hauptstrasse 28\, 8840 Einsiedeln\, Schweiz
CATEGORIES:c.p.s.,h'off,Kommers,öffentlich,s.t.
ATTACH;FMTTYPE=image/jpeg:https://corvina.ch/wp-content/uploads/2016/04/DSC02945-1.jpg
END:VEVENT
END:VCALENDAR