BEGIN:VCALENDAR
VERSION:2.0
PRODID:-//GV Corvina - ECPv5.13.0//NONSGML v1.0//EN
CALSCALE:GREGORIAN
METHOD:PUBLISH
X-WR-CALNAME:GV Corvina
X-ORIGINAL-URL:https://corvina.ch
X-WR-CALDESC:Veranstaltungen für GV Corvina
BEGIN:VTIMEZONE
TZID:UTC
BEGIN:STANDARD
TZOFFSETFROM:+0000
TZOFFSETTO:+0000
TZNAME:UTC
DTSTART:20190101T000000
END:STANDARD
END:VTIMEZONE
BEGIN:VEVENT
DTSTART;TZID=UTC:20191221T180000
DTEND;TZID=UTC:20191221T180000
DTSTAMP:20260425T211341
CREATED:20180915T111554Z
LAST-MODIFIED:20190906T094215Z
UID:2185-1576951200-1576951200@corvina.ch
SUMMARY:Nachtessen und Weinachtsfeier-/kommers
DESCRIPTION:Wir treffen uns dieses Jahr zum gemeinsames Essen und Feiern im Restaurant Bären. Dieses Jahr in einer neuen Form. Das Essen ist um 18:00 c.t. und im Anschluss beginnen die Weihnachtsfeier und der Kommers um 19.30 s.t.
URL:https://corvina.ch/event/nachtessen-und-weinachtsfeier-kommers/
LOCATION:Restaurant Bären\, Hauptstrasse 76\, Einsiedeln\, 8840
CATEGORIES:c.p.s.,h'off
ATTACH;FMTTYPE=image/jpeg:https://corvina.ch/wp-content/uploads/2016/04/DSC02992.jpg
END:VEVENT
END:VCALENDAR