BEGIN:VCALENDAR
VERSION:2.0
PRODID:-//GV Corvina - ECPv5.13.0//NONSGML v1.0//EN
CALSCALE:GREGORIAN
METHOD:PUBLISH
X-WR-CALNAME:GV Corvina
X-ORIGINAL-URL:https://corvina.ch
X-WR-CALDESC:Veranstaltungen für GV Corvina
BEGIN:VTIMEZONE
TZID:UTC
BEGIN:STANDARD
TZOFFSETFROM:+0000
TZOFFSETTO:+0000
TZNAME:UTC
DTSTART:20160101T000000
END:STANDARD
END:VTIMEZONE
BEGIN:VEVENT
DTSTART;TZID=UTC:20160630T140000
DTEND;TZID=UTC:20160630T140000
DTSTAMP:20260426T042052
CREATED:20160511T063903Z
LAST-MODIFIED:20160511T065227Z
UID:1063-1467295200-1467295200@corvina.ch
SUMMARY:Maturafeier
DESCRIPTION:Wieder ein Jahrgang hat die Matura geschafft und dies will gefeiert werden. Natürlich nimmt auch die Corvina an diesen Feierlichkeiten statt und stellt eine Delegation für unsere maturae und maturi.  Nach allen Reden und der Zeugnisübergabe gibt es ein Corvina-Foto auf der Bühne des Theatersaals\, also nicht wegspringen. Am anschliessenden Apéro im Garten/Gang vor der Mensa kann man sich wieder etwas erfrischen. Je nach Lust\, Laune und Zeit kann dann noch weitergefeiert werden. \n 
URL:https://corvina.ch/event/maturafeier/
LOCATION:Theatersaal Stift\, Kloster\, Einsiedeln\, 8840\, Schweiz
CATEGORIES:c.p.s.,off,öffentlich
ATTACH;FMTTYPE=image/jpeg:https://corvina.ch/wp-content/uploads/2016/05/11703542_1569294226642943_6692446137624378334_o.jpg
END:VEVENT
END:VCALENDAR