BEGIN:VCALENDAR
VERSION:2.0
PRODID:-//GV Corvina - ECPv5.13.0//NONSGML v1.0//EN
CALSCALE:GREGORIAN
METHOD:PUBLISH
X-WR-CALNAME:GV Corvina
X-ORIGINAL-URL:https://corvina.ch
X-WR-CALDESC:Veranstaltungen für GV Corvina
BEGIN:VTIMEZONE
TZID:UTC
BEGIN:STANDARD
TZOFFSETFROM:+0000
TZOFFSETTO:+0000
TZNAME:UTC
DTSTART:20160101T000000
END:STANDARD
END:VTIMEZONE
BEGIN:VEVENT
DTSTART;TZID=UTC:20161105T200000
DTEND;TZID=UTC:20161105T200000
DTSTAMP:20260426T041559
CREATED:20160811T140702Z
LAST-MODIFIED:20160927T161837Z
UID:1596-1478376000-1478376000@corvina.ch
SUMMARY:Krambambuli
DESCRIPTION:Es ist endlich wieder soweit\, das Krambambuli ist zurück. Kein Glühwein oder sonstiges Weihnachtsmarktgetränk kann da mithalten und darum freuen wir uns auf unser ersehntes Getränk. Kommt und geniesst es\, übrig bleibt sicherlich nichts.
URL:https://corvina.ch/event/krambambuli/
LOCATION:Restaurant Sihlsee\, Hauptstrasse 28\, 8840 Einsiedeln\, Schweiz
CATEGORIES:c.p.s.,c.t.,h'off
ATTACH;FMTTYPE=image/jpeg:https://corvina.ch/wp-content/uploads/2016/08/krambambuli_400_25.jpg
END:VEVENT
END:VCALENDAR