BEGIN:VCALENDAR
VERSION:2.0
PRODID:-//GV Corvina - ECPv5.13.0//NONSGML v1.0//EN
CALSCALE:GREGORIAN
METHOD:PUBLISH
X-WR-CALNAME:GV Corvina
X-ORIGINAL-URL:https://corvina.ch
X-WR-CALDESC:Veranstaltungen für GV Corvina
BEGIN:VTIMEZONE
TZID:UTC
BEGIN:STANDARD
TZOFFSETFROM:+0000
TZOFFSETTO:+0000
TZNAME:UTC
DTSTART:20190101T000000
END:STANDARD
END:VTIMEZONE
BEGIN:VEVENT
DTSTART;TZID=UTC:20191102T200000
DTEND;TZID=UTC:20191102T200000
DTSTAMP:20260425T210718
CREATED:20180915T110425Z
LAST-MODIFIED:20190906T093621Z
UID:2177-1572724800-1572724800@corvina.ch
SUMMARY:Krambambuli
DESCRIPTION:Wie jedes Jahr laben wir uns in der kalten Jahreszeit am wärmenden und gesundheitsfördernden Krambambuli. Wie jedes Jahr wird das Getränk unter fachkundiger Leitung hergestellt.
URL:https://corvina.ch/event/krambambuli-3/
LOCATION:Restaurant Sihlsee\, Hauptstrasse 28\, 8840 Einsiedeln\, Schweiz
CATEGORIES:c.p.s.,h'off
ATTACH;FMTTYPE=image/jpeg:https://corvina.ch/wp-content/uploads/2016/11/DSC00920.jpg
END:VEVENT
END:VCALENDAR