BEGIN:VCALENDAR
VERSION:2.0
PRODID:-//GV Corvina - ECPv5.13.0//NONSGML v1.0//EN
CALSCALE:GREGORIAN
METHOD:PUBLISH
X-WR-CALNAME:GV Corvina
X-ORIGINAL-URL:https://corvina.ch
X-WR-CALDESC:Veranstaltungen für GV Corvina
BEGIN:VTIMEZONE
TZID:UTC
BEGIN:STANDARD
TZOFFSETFROM:+0000
TZOFFSETTO:+0000
TZNAME:UTC
DTSTART:20160101T000000
END:STANDARD
END:VTIMEZONE
BEGIN:VEVENT
DTSTART;VALUE=DATE:20161015
DTEND;VALUE=DATE:20161017
DTSTAMP:20260426T003239
CREATED:20160811T134905Z
LAST-MODIFIED:20160811T134905Z
UID:1591-1476493200-1476579599@corvina.ch
SUMMARY:Kaderseminar
DESCRIPTION:Die Kandidaten von gestern sind das Kader von heute oder auch erst morgen. \nWas unser Kader noch alles lernen muss\, das erfahren sie am Kaderseminar.
URL:https://corvina.ch/event/kaderseminar/
LOCATION:Universität Bern\, Bern\, Schweiz
CATEGORIES:c.p.s.,off
ATTACH;FMTTYPE=image/jpeg:https://corvina.ch/wp-content/uploads/2016/08/images.jpg
END:VEVENT
END:VCALENDAR