BEGIN:VCALENDAR
VERSION:2.0
PRODID:-//GV Corvina - ECPv5.13.0//NONSGML v1.0//EN
CALSCALE:GREGORIAN
METHOD:PUBLISH
X-WR-CALNAME:GV Corvina
X-ORIGINAL-URL:https://corvina.ch
X-WR-CALDESC:Veranstaltungen für GV Corvina
BEGIN:VTIMEZONE
TZID:UTC
BEGIN:STANDARD
TZOFFSETFROM:+0000
TZOFFSETTO:+0000
TZNAME:UTC
DTSTART:20200101T000000
END:STANDARD
END:VTIMEZONE
BEGIN:VEVENT
DTSTART;TZID=UTC:20200220T180000
DTEND;TZID=UTC:20200220T180000
DTSTAMP:20260426T024950
CREATED:20180915T112719Z
LAST-MODIFIED:20190906T094416Z
UID:2193-1582221600-1582221600@corvina.ch
SUMMARY:Fasnachtsstamm
DESCRIPTION:Infos beim Senior
URL:https://corvina.ch/event/fasnachtsstamm-3/
CATEGORIES:c.p.n.s.,off,öffentlich
ATTACH;FMTTYPE=image/jpeg:https://corvina.ch/wp-content/uploads/2018/09/resized_800x600_800x600_fasnacht_teufel.jpg
END:VEVENT
END:VCALENDAR