BEGIN:VCALENDAR
VERSION:2.0
PRODID:-//GV Corvina - ECPv5.13.0//NONSGML v1.0//EN
CALSCALE:GREGORIAN
METHOD:PUBLISH
X-WR-CALNAME:GV Corvina
X-ORIGINAL-URL:https://corvina.ch
X-WR-CALDESC:Veranstaltungen für GV Corvina
BEGIN:VTIMEZONE
TZID:UTC
BEGIN:STANDARD
TZOFFSETFROM:+0000
TZOFFSETTO:+0000
TZNAME:UTC
DTSTART:20200101T000000
END:STANDARD
END:VTIMEZONE
BEGIN:VEVENT
DTSTART;TZID=UTC:20200110T163000
DTEND;TZID=UTC:20200110T163000
DTSTAMP:20260426T010613
CREATED:20180915T112443Z
LAST-MODIFIED:20190906T094335Z
UID:2191-1578673800-1578673800@corvina.ch
SUMMARY:Etzelwallfahrt
DESCRIPTION:Wir treffen uns um 16.30 c.t. beim Stift und laufen von da auf den Etzel.
URL:https://corvina.ch/event/etzelwallfahrt-3/
LOCATION:Kloster Einsiedeln\, Kloster\, Einsiedeln\, 8840\, Schweiz
CATEGORIES:c.p.n.s.,c.t.,off
ATTACH;FMTTYPE=image/jpeg:https://corvina.ch/wp-content/uploads/2017/10/1354440473_23.jpg
END:VEVENT
END:VCALENDAR