BEGIN:VCALENDAR
VERSION:2.0
PRODID:-//GV Corvina - ECPv5.13.0//NONSGML v1.0//EN
CALSCALE:GREGORIAN
METHOD:PUBLISH
X-WR-CALNAME:GV Corvina
X-ORIGINAL-URL:https://corvina.ch
X-WR-CALDESC:Veranstaltungen für GV Corvina
BEGIN:VTIMEZONE
TZID:UTC
BEGIN:STANDARD
TZOFFSETFROM:+0000
TZOFFSETTO:+0000
TZNAME:UTC
DTSTART:20190101T000000
END:STANDARD
END:VTIMEZONE
BEGIN:VEVENT
DTSTART;TZID=UTC:20191206T200000
DTEND;TZID=UTC:20191206T200000
DTSTAMP:20260425T185902
CREATED:20180915T111107Z
LAST-MODIFIED:20190906T093946Z
UID:2183-1575662400-1575662400@corvina.ch
SUMMARY:Chlausstamm
DESCRIPTION:Auch dieses Jahr besucht uns der Samichlaus und weiss von unseren Taten zu berichten. Für alle\, die ein schlechtes Gewissen haben\, der Chlaus lässt sich bestechen mit Sprüchen und Bier.
URL:https://corvina.ch/event/chlausstamm-2/
LOCATION:Restaurant Rosengarten\, Spitalstrasse 16\, Einsiedeln\, schwyz\, 8840\, Schweiz
CATEGORIES:c.p.s.,off
ATTACH;FMTTYPE=image/jpeg:https://corvina.ch/wp-content/uploads/2016/04/IMG_8562.jpg
END:VEVENT
END:VCALENDAR