BEGIN:VCALENDAR
VERSION:2.0
PRODID:-//GV Corvina - ECPv5.13.0//NONSGML v1.0//EN
CALSCALE:GREGORIAN
METHOD:PUBLISH
X-WR-CALNAME:GV Corvina
X-ORIGINAL-URL:https://corvina.ch
X-WR-CALDESC:Veranstaltungen für GV Corvina
BEGIN:VTIMEZONE
TZID:UTC
BEGIN:STANDARD
TZOFFSETFROM:+0000
TZOFFSETTO:+0000
TZNAME:UTC
DTSTART:20160101T000000
END:STANDARD
END:VTIMEZONE
BEGIN:VEVENT
DTSTART;TZID=UTC:20160930T170000
DTEND;TZID=UTC:20160930T170000
DTSTAMP:20260425T205910
CREATED:20160811T133216Z
LAST-MODIFIED:20160811T133216Z
UID:1585-1475254800-1475254800@corvina.ch
SUMMARY:BC/AC - Eröffnungsconvente
DESCRIPTION:Start ins neue Semester \nDer hohe Senior wird die Traktandenlisten vorgängig verschicken.
URL:https://corvina.ch/event/bcac-eroeffnungsconvente/
LOCATION:Restaurant Rosengarten\, Spitalstrasse 16\, Einsiedeln\, schwyz\, 8840\, Schweiz
CATEGORIES:c.p.s.,off,s.t.
ATTACH;FMTTYPE=image/jpeg:https://corvina.ch/wp-content/uploads/2016/08/Besprechung.jpg
END:VEVENT
END:VCALENDAR