BEGIN:VCALENDAR
VERSION:2.0
PRODID:-//GV Corvina - ECPv5.13.0//NONSGML v1.0//EN
CALSCALE:GREGORIAN
METHOD:PUBLISH
X-WR-CALNAME:GV Corvina
X-ORIGINAL-URL:https://corvina.ch
X-WR-CALDESC:Veranstaltungen für GV Corvina
BEGIN:VTIMEZONE
TZID:UTC
BEGIN:STANDARD
TZOFFSETFROM:+0000
TZOFFSETTO:+0000
TZNAME:UTC
DTSTART:20190101T000000
END:STANDARD
END:VTIMEZONE
BEGIN:VEVENT
DTSTART;TZID=UTC:20191213T170000
DTEND;TZID=UTC:20191213T170000
DTSTAMP:20260425T210805
CREATED:20180915T110803Z
LAST-MODIFIED:20190906T094102Z
UID:2181-1576256400-1576256400@corvina.ch
SUMMARY:BC/AC - Wahl-/Schlussconvente
DESCRIPTION:Die Traktandenliste und alle weiteren Unterlagen werden vorgängig versandt
URL:https://corvina.ch/event/bc-ac-wahl-schlussconvente/
LOCATION:Restaurant Rosengarten\, Spitalstrasse 16\, Einsiedeln\, schwyz\, 8840\, Schweiz
CATEGORIES:c.p.s.,intern,off,s.t.
ATTACH;FMTTYPE=image/jpeg:https://corvina.ch/wp-content/uploads/2017/02/Besprechung.jpg
END:VEVENT
END:VCALENDAR