BEGIN:VCALENDAR
VERSION:2.0
PRODID:-//GV Corvina - ECPv5.13.0//NONSGML v1.0//EN
CALSCALE:GREGORIAN
METHOD:PUBLISH
X-WR-CALNAME:GV Corvina
X-ORIGINAL-URL:https://corvina.ch
X-WR-CALDESC:Veranstaltungen für GV Corvina
BEGIN:VTIMEZONE
TZID:UTC
BEGIN:STANDARD
TZOFFSETFROM:+0000
TZOFFSETTO:+0000
TZNAME:UTC
DTSTART:20190101T000000
END:STANDARD
END:VTIMEZONE
BEGIN:VEVENT
DTSTART;TZID=UTC:20190920T170000
DTEND;TZID=UTC:20190920T170000
DTSTAMP:20260426T003228
CREATED:20190906T091557Z
LAST-MODIFIED:20190906T091557Z
UID:2490-1568998800-1568998800@corvina.ch
SUMMARY:BC/AC- Erröfnungsconvente
DESCRIPTION:Der Senior stellt die nötigen Unterlagen vorgängig zur Verfügung
URL:https://corvina.ch/event/bc-ac-erroefnungsconvente/
LOCATION:Restaurant Rosengarten\, Spitalstrasse 16\, Einsiedeln\, schwyz\, 8840\, Schweiz
CATEGORIES:c.p.n.s.,off
ATTACH;FMTTYPE=image/jpeg:https://corvina.ch/wp-content/uploads/2017/02/Besprechung.jpg
END:VEVENT
END:VCALENDAR